BEGIN:VCALENDAR
VERSION:2.0
PRODID:-//Sabre//Sabre VObject 4.5.1//EN
CALSCALE:GREGORIAN
BEGIN:VEVENT
UID:sabre-vobject-55ab12c4-80b3-4fed-91f7-d09a48fad084
DTSTAMP:20260419T204130Z
SUMMARY:COMPLET - Rencontre littéraire : Benoît Archambault reçoit Janet
 te Bertrand
DESCRIPTION:Benoît Archambault aura le plaisir et l’honneur de recevoir 
 Janette Bertrand pour une rencontre littéraire toute spéciale\, qui se t
 iendra dans le cadre agréable de la salle de réception Sous le charme de
 s érables.\n\nVoir: https://www.saint-eustache.ca/evenements/conferences/
 rencontre-litteraire-benoit-archambault-recoit-janette-bertrand
LOCATION:Salle de réception : Sous le charme des érables
DTSTART;TZID=America/New_York:20251018T143000
DTEND;TZID=America/New_York:20251018T160000
END:VEVENT
END:VCALENDAR
