BEGIN:VCALENDAR
VERSION:2.0
PRODID:-//Sabre//Sabre VObject 4.5.1//EN
CALSCALE:GREGORIAN
BEGIN:VEVENT
UID:sabre-vobject-f3649ac6-671a-468d-bdc7-5713be290161
DTSTAMP:20260419T145049Z
SUMMARY:Heure du conte du rat Biboche
DESCRIPTION:Viens rejoindre Biboche à la bibliothèque qui te racontera de
  belles histoires!\n\nVoir: https://www.saint-eustache.ca/evenements/bibli
 otheque/heure-du-conte-du-rat-biboche-2026-05-14
LOCATION:Bibliothèque Guy-Bélisle
DTSTART;TZID=America/New_York:20260514T100000
DTEND;TZID=America/New_York:20260514T103000
END:VEVENT
END:VCALENDAR
